BEGIN:VCALENDAR
VERSION:2.0
PRODID:-//ESV Wolfenbüttel Tennis - ECPv6.15.20//NONSGML v1.0//EN
CALSCALE:GREGORIAN
METHOD:PUBLISH
X-WR-CALNAME:ESV Wolfenbüttel Tennis
X-ORIGINAL-URL:https://esv-wf-tennis.de
X-WR-CALDESC:Veranstaltungen für ESV Wolfenbüttel Tennis
REFRESH-INTERVAL;VALUE=DURATION:PT1H
X-Robots-Tag:noindex
X-PUBLISHED-TTL:PT1H
BEGIN:VTIMEZONE
TZID:Europe/Berlin
BEGIN:DAYLIGHT
TZOFFSETFROM:+0100
TZOFFSETTO:+0200
TZNAME:CEST
DTSTART:20250330T010000
END:DAYLIGHT
BEGIN:STANDARD
TZOFFSETFROM:+0200
TZOFFSETTO:+0100
TZNAME:CET
DTSTART:20251026T010000
END:STANDARD
BEGIN:DAYLIGHT
TZOFFSETFROM:+0100
TZOFFSETTO:+0200
TZNAME:CEST
DTSTART:20260329T010000
END:DAYLIGHT
BEGIN:STANDARD
TZOFFSETFROM:+0200
TZOFFSETTO:+0100
TZNAME:CET
DTSTART:20261025T010000
END:STANDARD
BEGIN:DAYLIGHT
TZOFFSETFROM:+0100
TZOFFSETTO:+0200
TZNAME:CEST
DTSTART:20270328T010000
END:DAYLIGHT
BEGIN:STANDARD
TZOFFSETFROM:+0200
TZOFFSETTO:+0100
TZNAME:CET
DTSTART:20271031T010000
END:STANDARD
END:VTIMEZONE
BEGIN:VEVENT
DTSTART;VALUE=DATE:20260503
DTEND;VALUE=DATE:20260504
DTSTAMP:20260424T110042
CREATED:20260213T111431Z
LAST-MODIFIED:20260213T111431Z
UID:3542-1777766400-1777852799@esv-wf-tennis.de
SUMMARY:Punktspielauftakt
DESCRIPTION:
URL:https://esv-wf-tennis.de/event/punktspielauftakt-2/
END:VEVENT
BEGIN:VEVENT
DTSTART;TZID=Europe/Berlin:20260627T180000
DTEND;TZID=Europe/Berlin:20260627T230000
DTSTAMP:20260424T110042
CREATED:20260213T111520Z
LAST-MODIFIED:20260213T111520Z
UID:3544-1782583200-1782601200@esv-wf-tennis.de
SUMMARY:Sommerfest -Tennisanlage
DESCRIPTION:
URL:https://esv-wf-tennis.de/event/sommerfest-tennisanlage/
END:VEVENT
BEGIN:VEVENT
DTSTART;TZID=Europe/Berlin:20260809T143000
DTEND;TZID=Europe/Berlin:20260809T180000
DTSTAMP:20260424T110042
CREATED:20260213T111612Z
LAST-MODIFIED:20260213T111612Z
UID:3546-1786285800-1786298400@esv-wf-tennis.de
SUMMARY:Tag der offenen Tür des ESV (alle Abteilungen)
DESCRIPTION:
URL:https://esv-wf-tennis.de/event/tag-der-offenen-tuer-des-esv-alle-abteilungen/
END:VEVENT
BEGIN:VEVENT
DTSTART;TZID=Europe/Berlin:20261003T180000
DTEND;TZID=Europe/Berlin:20261003T233000
DTSTAMP:20260424T110042
CREATED:20260213T111651Z
LAST-MODIFIED:20260213T111651Z
UID:3548-1791050400-1791070200@esv-wf-tennis.de
SUMMARY:ESV Wiesn
DESCRIPTION:
URL:https://esv-wf-tennis.de/event/esv-wiesn-4/
END:VEVENT
BEGIN:VEVENT
DTSTART;TZID=Europe/Berlin:20261031T090000
DTEND;TZID=Europe/Berlin:20261031T130000
DTSTAMP:20260424T110042
CREATED:20260213T111729Z
LAST-MODIFIED:20260213T111729Z
UID:3550-1793437200-1793451600@esv-wf-tennis.de
SUMMARY:3. Arbeitseinsatz - Tennisanlage
DESCRIPTION:
URL:https://esv-wf-tennis.de/event/3-arbeitseinsatz-tennisanlage/
END:VEVENT
END:VCALENDAR